BEGIN:VCALENDAR
VERSION:2.0
PRODID:-//hacksw/handcal//NONSGML v1.0//EN
BEGIN:VEVENT
UID:42d76376adaecaf778e1480fecb62127
DTSTAMP:20260419T124851Z

DTSTART:20161210T233000
DTEND:20161226T003000
SUMMARY:Find Santa Claus at RuneGuru
DESCRIPTION:-- 25th of December, 11:30 PM GMT --

For the 25th of December at 11:30 PM RuneGuru O'Clock your task will be to be the 1st to find Acid Christ, ArchbishopC and Mark4785 in the World of Old School RuneScape.

World: RuneGuru Home World
Time: 11:30 PM GMT

Clue's will be given out for the hiding spots.


---------------------------------
For everyday starting from the 10th of December through to the 24th of December, a cheerful Santa Claus will shroud himself amongst the content of RuneGuru.com. 

He will be located anywhere that is accessible to a registered and logged in Member of RuneGuru.com and will be carrying with him a random Old School RuneScape item in his bag of goodies!

It is your task to find him and the first person to do so will be the recipient of a gladly relinquished gift that will be  presented at the earliest RuneGuru Meeting!


How to Participate:

1. Hit the Attend button for this event!

2.Between the 10th of December and 25th of December between 8:00 PM and 10:00 PM RuneGuru O'Clock look out for Santa Claus among our content.

3. If you do find him, click on him to reveal the prize and wait for a Founder or Leader to confirm to you that you are the 1st person to uncover the whereabouts of Santa. Do NOT leave the chat dialogue UNTIL a Founder or Leader has spoken to you!


Each and every Winner will be announced within the discussion section of this Event!


-- What will Santa look like? --

Our news article explains what Santa will look like, should you find him:

https://www.runeguru.com/news-and-updates/runeguru-runescape-help-news/892-find-santa-claus-at-runeguru-com
LOCATION:
END:VEVENT

END:VCALENDAR
