BEGIN:VCALENDAR
VERSION:2.0
PRODID:-//hacksw/handcal//NONSGML v1.0//EN
BEGIN:VEVENT
UID:7e61d9b4a2a106e79a7c55a387027df6
DTSTAMP:20260419T151442Z

DTSTART:20161204T224500
DTEND:20161204T224500
SUMMARY:PVM Mass Bossing (Bandos)
DESCRIPTION:When: After our first Christmas themed meeting we will be hosting a Bandos mass!

Where: We will all meet up at Bandos on an open world fully geared after the meeting.

WE WILL SPLIT any and all loot drops! Excluding Tuna potato's and other similar items.

Hopefully we can get 15+ attendee's so please hit the attend button!
LOCATION:
END:VEVENT

END:VCALENDAR
