BEGIN:VCALENDAR
VERSION:2.0
PRODID:-//hacksw/handcal//NONSGML v1.0//EN
BEGIN:VEVENT
UID:59fa41d0213bd66045a0d58b49f21b5a
DTSTAMP:20260421T113424Z

DTSTART:20161127T223000
DTEND:20161127T223000
SUMMARY:Post meeting pk trip!
DESCRIPTION:Events will be discussed during the meeting on Sunday.

This will will be focused around DDS's and melee.

We will meetup in w338 at North of G.E.

Please click attend if you can attend.

This will probably be the epilogue of the pking events.
LOCATION:
END:VEVENT

END:VCALENDAR
