BEGIN:VCALENDAR
VERSION:2.0
PRODID:-//hacksw/handcal//NONSGML v1.0//EN
BEGIN:VEVENT
UID:475e33c8c2b162942b043cc6f96a7870
DTSTAMP:20260421T101850Z

DTSTART:20161118T200000
DTEND:20161118T200000
SUMMARY:HIDE AND SEEK
DESCRIPTION:Search for FREE moneys :)
LOCATION:
END:VEVENT

END:VCALENDAR
