BEGIN:VCALENDAR
VERSION:2.0
PRODID:-//hacksw/handcal//NONSGML v1.0//EN
BEGIN:VEVENT
UID:4a30fe33241208304f4cd821340b32a1
DTSTAMP:20260421T101944Z

DTSTART:20161120T234500
DTEND:20161120T234500
SUMMARY:Post Meeting D-bow Rushing!
DESCRIPTION:This is the post-meeting D-bow rushing event. Details will be listed during the meeting and we will meet at North GE after the meeting in world 328.

No requirements.

Bring whatever you want.

This does involve risk, don't bring anything you're not willing to lose.
LOCATION:
END:VEVENT

END:VCALENDAR
