BEGIN:VCALENDAR
VERSION:2.0
PRODID:-//hacksw/handcal//NONSGML v1.0//EN
BEGIN:VEVENT
UID:760efdf8b8ec9abb12c216b712e0d072
DTSTAMP:20260419T124548Z

DTSTART:20161116T120000
DTEND:20161123T120000
SUMMARY:Skilling Competition Starts
DESCRIPTION:Vote now.

Sign up by replying to the competition thread.
LOCATION:
END:VEVENT

END:VCALENDAR
