BEGIN:VCALENDAR
VERSION:2.0
PRODID:-//hacksw/handcal//NONSGML v1.0//EN
BEGIN:VEVENT
UID:aa8a645a0956d62eee4647c313b37692
DTSTAMP:20260419T151503Z

DTSTART:20161103T200000
DTEND:20161103T200000
SUMMARY:Dark bow rush
DESCRIPTION:Since alot of you started to enjoy pking alot more, so ill host an event for you lot,

10 pm gmt thursday 3rd November 

Bring what u can afford to loose. 

All loots will be split.

Have much fun as possible!

:mrgreen:

LOCATION:
END:VEVENT

END:VCALENDAR
