BEGIN:VCALENDAR
VERSION:2.0
PRODID:-//hacksw/handcal//NONSGML v1.0//EN
BEGIN:VEVENT
UID:111509c339ed6c881266fbc07c390dc0
DTSTAMP:20260421T095910Z

DTSTART:20161026T000000
DTEND:20161026T235959
SUMMARY:Wednesday Pk Trip
DESCRIPTION:Its starts at 11:00 pm bst

We all meet at Ege bank and it gona be for fun anyone can join.

Rules are simple.
1:.Try to get on teamspeak not a most.
2:If u accident attack on of the team members u trade them food right away.
3:We split all loot that is woth of spliting.
4:Get get in to a private CC and also make sure you turn of Friends OFF.
LOCATION:
END:VEVENT

END:VCALENDAR
