BEGIN:VCALENDAR
VERSION:2.0
PRODID:-//hacksw/handcal//NONSGML v1.0//EN
BEGIN:VEVENT
UID:f5f7c12a752529d23af60817d3838b1e
DTSTAMP:20260421T095910Z

DTSTART:20161030T230000
DTEND:20161030T230000
SUMMARY:Costume Party Number 3: Final
DESCRIPTION:
Theme: Horror/Scary

What day: Sunday October the 30th.

When: 5pm CST///11pm BST

Where: Varrock Castle Upstairs World 301 (all of our f2p members can join this one!)

We will be hosting our third and final costume party in light of the holidays!
Bring your best outfit and come meet up with us for some Varrock castle shenanigans!
There will be three judges present: Acid Christ, Mark, and myself. (replacements will be declared if needed)
There will be a score presented from each judge ranging from 1-10, points will be awarded for Creativity and Originality, Theme, and overall impression.
There will be 3 winners to the Costume party consisting of a First, Second, and Third place winner.

LOCATION:
END:VEVENT

END:VCALENDAR
