BEGIN:VCALENDAR
VERSION:2.0
PRODID:-//hacksw/handcal//NONSGML v1.0//EN
BEGIN:VEVENT
UID:dc6bcc2db87681da5727d09cd1d2484e
DTSTAMP:20260421T101415Z

DTSTART:20161023T220000
DTEND:20161023T220000
SUMMARY:Post Meeting Pk Trip
DESCRIPTION:Were continuing the saga! This week we will be hosting the pking event after the Runeguru meeting. 

When: Immediately after the meeting we will gather and have some pking fun! 

Requirements: This week is going to be a members only pk trip. Due to f2p portion bumming past few attempts were going to try without it this time. (I apologize to all f2p members for this, there will be a f2p pking event to come shortly.)

Were going to do it after meeting to hopefully optimize the participation.
As always this involves risk so don't bring anything your not willing to lose!!!!

This week I'm pulling a few strings with some buddies who are in a large pking clan. I'm trying to recruit a few of their members to help us and possibly teach us some tricks of pking, so not only can this be a fun trip but also a learning experience.

We will meetup after the Runeguru meeting #5 at the location that will be designated during the meeting. 
We will also be using the Rune_Guru event chat to help optimize organization.

Feel free to vote on the poll for any events in the list. This will help us decide what majority of attendee's want to do.

Again let it be known this is going to involve risk, don't bring anything your not willing to lose!!!

Rules of event: 
1. Once the start time for the trip is reached, nobody else can attend. Trip will not start until all late attendees are separated.

2. The PK group should use a Leaders FC during the trip which is set to ONLY allow friends to join it. All conversation should take place through this FC.

3. All communication in TS, except channel speech and text, will be disabled during a PK trip and users will be locked into the Group Pk'ing channel.

4. Anybody who is streaming will be betrayed by the team to ensure the event isn't ruined.

5. If a Trip member attacks a person 3 times or more the team should betray that person to ensure the event isn't ruined.

6. In-game Private Message chat should be set to 'Off' during a PK Trip. If a person refuses to turn PM off then the team should betray this person but retain and return ALL of their items.
LOCATION:
END:VEVENT

END:VCALENDAR
