BEGIN:VCALENDAR
VERSION:2.0
PRODID:-//hacksw/handcal//NONSGML v1.0//EN
BEGIN:VEVENT
UID:ce648f8a6a66815eebcf4085e0120072
DTSTAMP:20260419T133800Z

DTSTART:20180825T203000
DTEND:20180826T210000
SUMMARY:RN Skilling XP Competition - Agility
DESCRIPTION:The RuneNation Skilling XP Competition will begin 

AT: Blue Moon Inn Cellar 8:30 PM BST

(Type:   !get 8:30 pm BST     in Discord for a countdown!)

ON: Saturday, 25th of August.

WORLD: W369

The Event Organiser is Mark4785.

HOW DOES THE EVENT WORK? Your XP in Agility will be tracked between Saturday, 9 PM BST through to Sunday 9 PM BST and shown at the end of the event.

Donations can be made to a prize pot. Where this is done the top 3 XP earner's will receive a share of the donation pot as follows:-

1st prize: 60%
2nd prize: 30%
3rd prize: 10%

**You MUST come to the Cellar prior to the event as you will be asked to log out and back in to ensure your XP record in Agility is 100% up to date on the Hiscore. You cannot participate if you do not do this!**


DONATION POT VALUE SO FAR: 5m
3m RN True
2m Mark4785
LOCATION:
END:VEVENT

END:VCALENDAR
