BEGIN:VCALENDAR
VERSION:2.0
PRODID:-//hacksw/handcal//NONSGML v1.0//EN
BEGIN:VEVENT
UID:bc95b8de973490e301fcf0cba0a0f3cb
DTSTAMP:20260421T102151Z

DTSTART:20161003T230000
DTEND:20161003T230000
SUMMARY:Blast Furnace with the Clan (I Wont be there)
DESCRIPTION:(I wont be able to make it to the event because of a big school assignment due this week. i am sorry. The event can still contintue if there are enough people willing to come to the event, my appologies)

Hello all, Talking in the clan chat today i got an idea. Now that blast furnace is hosted by npc's and Truebf is not hosting often anymore ( and the npc blast furnace costs way more :p). I thought why dont we host an Blastfurnace with the clan? 
we could work out shifts and have a sortof private world where everyone helps. This way it would be way much more profit for all of us and it could be fun too :) 

I hope you guys like the idea and if everyone would attend we can really make this happen guys :D 

If this is a succes we can host this more often and everyone will be 99 smithing before you know it :p

(excuse me for my bad english incase you spot some mistakes )



greetings from ZoZo
LOCATION:
END:VEVENT

END:VCALENDAR
