BEGIN:VCALENDAR
VERSION:2.0
PRODID:-//hacksw/handcal//NONSGML v1.0//EN
BEGIN:VEVENT
UID:ecfc472bbf42c03535becf80f6785661
DTSTAMP:20260421T095615Z

DTSTART:20160930T160000
DTEND:20160930T160000
SUMMARY:God Wars Dungeon Mass!
DESCRIPTION:It doesn't matter which boss we do! We will hold a vote before we venture off into the dungeon. September 30th @ 4:00PM EST. Be there or be square (;

Lets get them bank loots! It will be a FFA (Free for all).
LOCATION:
END:VEVENT

END:VCALENDAR
