BEGIN:VCALENDAR
VERSION:2.0
PRODID:-//hacksw/handcal//NONSGML v1.0//EN
BEGIN:VEVENT
UID:c8c021a78d27cf5285dcb11f98c08b1a
DTSTAMP:20260421T085614Z

DTSTART:20170521T200000
DTEND:20170521T200000
SUMMARY:Runeguru Meeting (21 May)
DESCRIPTION:WHERE: Blue Moon Inn Cellar Varrock.

TIME: 8:00 pm BST (3:00 PM EST)(12:00 PM PST).

WORLD:327(Home World).

This meeting will comprise:-

- Rank Promotions (according to Leader commendation and Nomination Forum Poll Results)
- Aim of the Week Announced
- Recruitment Discussion
- Upcoming Event Discussion 
- PvM Division Discussion
LOCATION:
END:VEVENT

END:VCALENDAR
