BEGIN:VCALENDAR
VERSION:2.0
PRODID:-//hacksw/handcal//NONSGML v1.0//EN
BEGIN:VEVENT
UID:05b151fb3215174c0c1ff901123bd3f1
DTSTAMP:20260421T100351Z

DTSTART:20160918T170000
DTEND:20160918T190000
SUMMARY:Bandos Mass
DESCRIPTION:Bandos mass, all welcome tasset, bcp,hilt split all other drops kept to owner of drop, 
hope to see you there :D
5pm est start, 7pm est end
LOCATION:
END:VEVENT

END:VCALENDAR
