BEGIN:VCALENDAR
VERSION:2.0
PRODID:-//hacksw/handcal//NONSGML v1.0//EN
BEGIN:VEVENT
UID:8cb90272d9439fe30283bb65f35001eb
DTSTAMP:20260419T203255Z

DTSTART:20170506T230000
DTEND:20170506T230000
SUMMARY:Corp Mass "Pvm Division"
DESCRIPTION:2 hour long event. 6pm - 8pm est/11pm - 1am gmt

Time: 6pm EST/11pm RuneGuru Clock
World: W327
Meet: Corp Cave

Recommended stats:
80+ Attack
80+ Strength
80+ Defence
80+ Magic
80+ Range
70+ Prayer

Items:
Full Melee Void (Elite if you have) More 
LOCATION:
END:VEVENT

END:VCALENDAR
