BEGIN:VCALENDAR
VERSION:2.0
PRODID:-//hacksw/handcal//NONSGML v1.0//EN
BEGIN:VEVENT
UID:a645cd3577f43997b53c86a01583050b
DTSTAMP:20260426T034541Z

DTSTART:20170414T160000
DTEND:20170414T170000
SUMMARY:Runeguru Recruitment Drive
DESCRIPTION:Starting W327 - Blue Moon Cellar

16:00 BST/Runeguru Time / 11:00 EST

An hour dedicated to recruitment. Using the information provided at the last recruitment meeting, we will recap and then head off to different worlds and locations to recruit.

"Anybody looking for a good/strong PVM cc?"

Places to head once we are going.

Varrock West Bank
Lumbridge Castle Bank
Pest Control Platforms

Bring your blue partyhats and banners if you want!
LOCATION:
END:VEVENT

END:VCALENDAR
