BEGIN:VCALENDAR
VERSION:2.0
PRODID:-//hacksw/handcal//NONSGML v1.0//EN
BEGIN:VEVENT
UID:56ecb86d621e03f99255a9c23bac4995
DTSTAMP:20260421T085624Z

DTSTART:20160911T220000
DTEND:20160911T220000
SUMMARY:RuneGuru: Meeting 1 
DESCRIPTION:**Please Check the Time of the meeting for your Time Zone!**

The 1st RuneGuru Meeting will take place:

AT:
Blue Moon Inn Cellar in Varrock at 5:00 PM EASTERN / 10:00 PM BST.

ON:
World 1.

AND WHEN:
Monday 12th of September.


Meeting will be followed by an Event, which is to be decided.
LOCATION:
END:VEVENT

END:VCALENDAR
