BEGIN:VCALENDAR
VERSION:2.0
PRODID:-//hacksw/handcal//NONSGML v1.0//EN
BEGIN:VEVENT
UID:e41ab1d71b47662c79cc731e96cebc96
DTSTAMP:20260421T112632Z

DTSTART:20160913T000000
DTEND:20160920T010000
SUMMARY:Skilling Competition 10 
DESCRIPTION:The RuneGuru 10th Skilling Competition. The skills voted on this week will be Agility, Thieving, and Runecrafting. Visit the forum thread to sign up and vote for which one you would like to grind. GL on pet drops  ;)
LOCATION:
END:VEVENT

END:VCALENDAR
