BEGIN:VCALENDAR
VERSION:2.0
PRODID:-//hacksw/handcal//NONSGML v1.0//EN
BEGIN:VEVENT
UID:7626bab5206503f8328a73c06928d9eb
DTSTAMP:20260421T113434Z

DTSTART:20160715T000000
DTEND:20160715T235959
SUMMARY:Barbarian Assault Event 
DESCRIPTION:A game of dynamics, variety, and coordination. 
LOCATION:
END:VEVENT

END:VCALENDAR
