BEGIN:VCALENDAR
VERSION:2.0
PRODID:-//hacksw/handcal//NONSGML v1.0//EN
BEGIN:VEVENT
UID:7677878e5c6152f6721b6869547a1733
DTSTAMP:20260426T035722Z

DTSTART:20170305T220000
DTEND:20170305T220000
SUMMARY:Runeguru Official Fashionscape Contest
DESCRIPTION:WHAT: Official Runeguru Fashionscape Contest - Where we compete to showcase our best fashionscape for prizes and glory. The judges will be Mr Bee, ArchbishopC, and Acid Christ. Theme is: Cute Noobs

WHERE: Falador Party Room - World 327

WHEN: Immediately after Sunday's Meeting on: Sunday March 5th

WHO: Anyone and everyone!

HOW: Wear your best fashionscape outfit! Judges will be rating fashionscape on a scale of 1-10 based on three categories: Theme, Originality, and Style.

WHY: For GP of course! The winner and top 2 runner-ups will receive awards that are yet to be decided.

Donations being accepted to contribute to the prize pool!
LOCATION:
END:VEVENT

END:VCALENDAR
